BEGIN:VCALENDAR
VERSION:2.0
PRODID:-//CCBC Children&#039;s Center - ECPv6.15.20//NONSGML v1.0//EN
CALSCALE:GREGORIAN
METHOD:PUBLISH
X-WR-CALNAME:CCBC Children&#039;s Center
X-ORIGINAL-URL:https://ccbcchildrenscenter.org
X-WR-CALDESC:Events for CCBC Children&#039;s Center
REFRESH-INTERVAL;VALUE=DURATION:PT1H
X-Robots-Tag:noindex
X-PUBLISHED-TTL:PT1H
BEGIN:VTIMEZONE
TZID:America/New_York
BEGIN:DAYLIGHT
TZOFFSETFROM:-0500
TZOFFSETTO:-0400
TZNAME:EDT
DTSTART:20220313T070000
END:DAYLIGHT
BEGIN:STANDARD
TZOFFSETFROM:-0400
TZOFFSETTO:-0500
TZNAME:EST
DTSTART:20221106T060000
END:STANDARD
BEGIN:DAYLIGHT
TZOFFSETFROM:-0500
TZOFFSETTO:-0400
TZNAME:EDT
DTSTART:20230312T070000
END:DAYLIGHT
BEGIN:STANDARD
TZOFFSETFROM:-0400
TZOFFSETTO:-0500
TZNAME:EST
DTSTART:20231105T060000
END:STANDARD
BEGIN:DAYLIGHT
TZOFFSETFROM:-0500
TZOFFSETTO:-0400
TZNAME:EDT
DTSTART:20240310T070000
END:DAYLIGHT
BEGIN:STANDARD
TZOFFSETFROM:-0400
TZOFFSETTO:-0500
TZNAME:EST
DTSTART:20241103T060000
END:STANDARD
END:VTIMEZONE
BEGIN:VEVENT
DTSTART;TZID=America/New_York:20231109T000000
DTEND;TZID=America/New_York:20231109T235959
DTSTAMP:20260420T082910
CREATED:20230816T133501Z
LAST-MODIFIED:20230816T133501Z
UID:4758-1699488000-1699574399@ccbcchildrenscenter.org
SUMMARY:No School - Parent Teacher Conferences
DESCRIPTION:
URL:https://ccbcchildrenscenter.org/calendar/no-school-parent-teacher-conferences/
END:VEVENT
BEGIN:VEVENT
DTSTART;TZID=America/New_York:20231023T090000
DTEND;TZID=America/New_York:20231023T214500
DTSTAMP:20260420T082910
CREATED:20231023T155713Z
LAST-MODIFIED:20231023T155717Z
UID:5226-1698051600-1698097500@ccbcchildrenscenter.org
SUMMARY:Outplacement Event - WIS
DESCRIPTION:Meet with Washington International School (WIS) admissions counselor\, Mary Hastings Moore. This event will be held in the CCBC library.
URL:https://ccbcchildrenscenter.org/calendar/outplacement-event-wis/
LOCATION:CCBC Children’s Center\, 5671 Western Avenue NW\, Washington\, DC\, 20015\, United States
END:VEVENT
BEGIN:VEVENT
DTSTART;TZID=America/New_York:20231012T193000
DTEND;TZID=America/New_York:20231012T210000
DTSTAMP:20260420T082910
CREATED:20230816T133118Z
LAST-MODIFIED:20230816T133118Z
UID:4752-1697139000-1697144400@ccbcchildrenscenter.org
SUMMARY:Board Meeting
DESCRIPTION:Board Meetings are open to members of the CCBC community.
URL:https://ccbcchildrenscenter.org/calendar/board-meeting-2/
END:VEVENT
BEGIN:VEVENT
DTSTART;TZID=America/New_York:20231010T000000
DTEND;TZID=America/New_York:20231010T235959
DTSTAMP:20260420T082910
CREATED:20230816T133417Z
LAST-MODIFIED:20230816T133417Z
UID:4756-1696896000-1696982399@ccbcchildrenscenter.org
SUMMARY:No School - Teacher Professional Day
DESCRIPTION:
URL:https://ccbcchildrenscenter.org/calendar/no-school-teacher-professional-day/
END:VEVENT
BEGIN:VEVENT
DTSTART;TZID=America/New_York:20231009T000000
DTEND;TZID=America/New_York:20231009T235959
DTSTAMP:20260420T082910
CREATED:20230816T132810Z
LAST-MODIFIED:20230816T132810Z
UID:4750-1696809600-1696895999@ccbcchildrenscenter.org
SUMMARY:No School - Indigenous Peoples Day
DESCRIPTION:CCBC will be closed in observance of Indigenous Peoples Day.
URL:https://ccbcchildrenscenter.org/calendar/no-school-indigenous-peoples-day/
END:VEVENT
BEGIN:VEVENT
DTSTART;TZID=America/New_York:20231005T190000
DTEND;TZID=America/New_York:20231005T210000
DTSTAMP:20260420T082910
CREATED:20230816T132627Z
LAST-MODIFIED:20230816T132935Z
UID:4748-1696532400-1696539600@ccbcchildrenscenter.org
SUMMARY:Back to School Night
DESCRIPTION:Join us at Back to School Night to meet our wonderful teachers!
URL:https://ccbcchildrenscenter.org/calendar/back-to-school-night/
END:VEVENT
BEGIN:VEVENT
DTSTART;TZID=America/New_York:20230930T180000
DTEND;TZID=America/New_York:20230930T210000
DTSTAMP:20260420T082910
CREATED:20230906T121449Z
LAST-MODIFIED:20230906T121452Z
UID:4980-1696096800-1696107600@ccbcchildrenscenter.org
SUMMARY:Fall Bash
DESCRIPTION:Purchase tickets.
URL:https://ccbcchildrenscenter.org/calendar/fall-bash/
END:VEVENT
BEGIN:VEVENT
DTSTART;TZID=America/New_York:20230918T123000
DTEND;TZID=America/New_York:20230918T144500
DTSTAMP:20260420T082910
CREATED:20230816T132431Z
LAST-MODIFIED:20230816T132944Z
UID:4746-1695040200-1695048300@ccbcchildrenscenter.org
SUMMARY:Discovery Club Begins
DESCRIPTION:Discovery Club is offered to Adventurers and Explorers. \nContact CCBC’s office for more information. \nccbc@ccbccc.org or (202) 966-3299.
URL:https://ccbcchildrenscenter.org/calendar/discovery-club-begins/
END:VEVENT
BEGIN:VEVENT
DTSTART;TZID=America/New_York:20230918T123000
DTEND;TZID=America/New_York:20230918T144500
DTSTAMP:20260420T082910
CREATED:20230816T132245Z
LAST-MODIFIED:20230816T132958Z
UID:4744-1695040200-1695048300@ccbcchildrenscenter.org
SUMMARY:Stay & Play Begins
DESCRIPTION:Contact CCBC’s office to sign up for Stay & Play. \nccbc@ccbccc.org or (202) 966-3299.
URL:https://ccbcchildrenscenter.org/calendar/stay-play-begins/
END:VEVENT
BEGIN:VEVENT
DTSTART;TZID=America/New_York:20230914T193000
DTEND;TZID=America/New_York:20230914T210000
DTSTAMP:20260420T082910
CREATED:20230816T132124Z
LAST-MODIFIED:20230816T132908Z
UID:4742-1694719800-1694725200@ccbcchildrenscenter.org
SUMMARY:Board Meeting
DESCRIPTION:Board Meetings are open to members of the CCBC community.
URL:https://ccbcchildrenscenter.org/calendar/board-meeting/
END:VEVENT
BEGIN:VEVENT
DTSTART;TZID=America/New_York:20230908T090000
DTEND;TZID=America/New_York:20230908T144500
DTSTAMP:20260420T082910
CREATED:20230816T132016Z
LAST-MODIFIED:20230816T133008Z
UID:4740-1694163600-1694184300@ccbcchildrenscenter.org
SUMMARY:First Day of School for 3-Day Classes
DESCRIPTION:11:30am Dismissal for Flowers\, Butterflies\, and Bumblebees.
URL:https://ccbcchildrenscenter.org/calendar/first-day-of-school-for-3-day-classes/
END:VEVENT
BEGIN:VEVENT
DTSTART;TZID=America/New_York:20230907T090000
DTEND;TZID=America/New_York:20230907T144500
DTSTAMP:20260420T082910
CREATED:20230816T131911Z
LAST-MODIFIED:20230816T133015Z
UID:4738-1694077200-1694097900@ccbcchildrenscenter.org
SUMMARY:First Day of School (5-Day and 2-Day Classes)
DESCRIPTION:11:30am Dismissal for Flowers\, Butterflies\, and Bumblebees.
URL:https://ccbcchildrenscenter.org/calendar/first-day-of-school-5-day-and-2-day-classes/
END:VEVENT
END:VCALENDAR